Package: SpectralTAD Version: 1.18.0 Command: /Library/Frameworks/R.framework/Resources/bin/R CMD check --install=check:SpectralTAD.install-out.txt --library=/Library/Frameworks/R.framework/Resources/library --no-vignettes --timings SpectralTAD_1.18.0.tar.gz StartedAt: 2024-04-16 09:18:00 -0400 (Tue, 16 Apr 2024) EndedAt: 2024-04-16 09:22:03 -0400 (Tue, 16 Apr 2024) EllapsedTime: 243.8 seconds RetCode: 0 Status: OK CheckDir: SpectralTAD.Rcheck Warnings: 0