Package: Spectra Version: 1.12.0 Command: /home/biocbuild/R/R-4.3.1/bin/R CMD check --install=check:Spectra.install-out.txt --library=/home/biocbuild/R/R-4.3.1/site-library --no-vignettes --timings Spectra_1.12.0.tar.gz StartedAt: 2023-11-02 14:35:10 -0000 (Thu, 02 Nov 2023) EndedAt: 2023-11-02 14:42:26 -0000 (Thu, 02 Nov 2023) EllapsedTime: 435.8 seconds RetCode: 0 Status: OK CheckDir: Spectra.Rcheck Warnings: 0