Package: SpeCond Version: 1.56.0 Command: /home/biocbuild/bbs-3.18-bioc/R/bin/R CMD INSTALL SpeCond StartedAt: 2024-04-15 15:13:42 -0400 (Mon, 15 Apr 2024) EndedAt: 2024-04-15 15:13:49 -0400 (Mon, 15 Apr 2024) EllapsedTime: 6.8 seconds RetCode: 0 Status: OK