Package: SpeCond Version: 1.56.0 Command: rm -rf SpeCond.buildbin-libdir && mkdir SpeCond.buildbin-libdir && /Users/biocbuild/BBS/utils/build-universal.sh SpeCond_1.56.0.tar.gz /Library/Frameworks/R.framework/Resources/bin/R SpeCond.buildbin-libdir StartedAt: 2024-04-16 12:48:10 -0400 (Tue, 16 Apr 2024) EndedAt: 2024-04-16 12:48:27 -0400 (Tue, 16 Apr 2024) EllapsedTime: 17.2 seconds RetCode: 0 Status: OK PackageFile: SpeCond_1.56.0.tgz PackageFileSize: 1.19 MiB