Package: SpeCond Version: 1.56.0 Command: rm -rf SpeCond.buildbin-libdir && mkdir SpeCond.buildbin-libdir && /Users/biocbuild/BBS/utils/build-universal.sh SpeCond_1.56.0.tar.gz /Library/Frameworks/R.framework/Resources/bin/R SpeCond.buildbin-libdir StartedAt: 2024-03-04 01:06:28 -0500 (Mon, 04 Mar 2024) EndedAt: 2024-03-04 01:06:41 -0500 (Mon, 04 Mar 2024) EllapsedTime: 12.6 seconds RetCode: 0 Status: OK PackageFile: SpeCond_1.56.0.tgz PackageFileSize: 1.195 MiB