############################################################################## ############################################################################## ### ### Running command: ### ### /Library/Frameworks/R.framework/Resources/bin/R CMD check --install=check:SpatialOmicsOverlay.install-out.txt --library=/Library/Frameworks/R.framework/Resources/library --no-vignettes --timings SpatialOmicsOverlay_1.2.1.tar.gz ### ############################################################################## ############################################################################## * using log directory ‘/Users/biocbuild/bbs-3.18-bioc/meat/SpatialOmicsOverlay.Rcheck’ * using R version 4.3.3 (2024-02-29) * using platform: x86_64-apple-darwin20 (64-bit) * R was compiled by Apple clang version 14.0.0 (clang-1400.0.29.202) GNU Fortran (GCC) 12.2.0 * running under: macOS Monterey 12.7.1 * using session charset: UTF-8 * using option ‘--no-vignettes’ * checking for file ‘SpatialOmicsOverlay/DESCRIPTION’ ... OK * this is package ‘SpatialOmicsOverlay’ version ‘1.2.1’ * package encoding: UTF-8 * checking package namespace information ... OK * checking package dependencies ... OK * checking if this is a source package ... OK * checking if there is a namespace ... OK * checking for hidden files and directories ... OK * checking for portable file names ... OK * checking for sufficient/correct file permissions ... OK * checking whether package ‘SpatialOmicsOverlay’ can be installed ... OK * checking installed package size ... OK * checking package directory ... OK * checking ‘build’ directory ... OK * checking DESCRIPTION meta-information ... NOTE License components which are templates and need '+ file LICENSE': MIT * checking top-level files ... NOTE File LICENSE is not mentioned in the DESCRIPTION file. * checking for left-over files ... OK * checking index information ... OK * checking package subdirectories ... OK * checking R files for non-ASCII characters ... OK * checking R files for syntax errors ... OK * checking whether the package can be loaded ... OK * checking whether the package can be loaded with stated dependencies ... OK * checking whether the package can be unloaded cleanly ... OK * checking whether the namespace can be loaded with stated dependencies ... OK * checking whether the namespace can be unloaded cleanly ... OK * checking dependencies in R code ... OK * checking S3 generic/method consistency ... OK * checking replacement functions ... OK * checking foreign function calls ... OK * checking R code for possible problems ... NOTE plotSpatialOverlay: no visible binding for global variable ‘xcoor’ plotSpatialOverlay: no visible binding for global variable ‘ycoor’ plotSpatialOverlay: no visible binding for global variable ‘sampleID’ plotSpatialOverlay: no visible binding for global variable ‘Target’ scaleBarPrinting: no visible binding for global variable ‘X’ scaleBarPrinting: no visible binding for global variable ‘Y’ Undefined global functions or variables: Target X Y sampleID xcoor ycoor * checking Rd files ... OK * checking Rd metadata ... OK * checking Rd cross-references ... OK * checking for missing documentation entries ... OK * checking for code/documentation mismatches ... OK * checking Rd \usage sections ... OK * checking Rd contents ... OK * checking for unstated dependencies in examples ... OK * checking files in ‘vignettes’ ... OK * checking examples ... OK Examples with CPU (user + system) or elapsed time > 5s user system elapsed add4ChannelImage 31.149 2.020 27.514 readSpatialOverlay 25.048 0.958 26.634 cropSamples 22.566 1.389 23.493 changeColoringIntensity 22.012 1.460 22.363 addImageOmeTiff 21.416 1.235 21.351 changeImageColoring 21.073 1.470 21.163 recolor 20.131 1.235 20.663 flipY 19.499 1.245 20.459 cropTissue 19.624 0.827 20.534 flipX 19.424 1.013 20.314 createMask 14.022 0.700 15.455 createCoordFile 8.653 0.123 9.244 parseOverlayAttrs 5.967 0.631 5.723 parseScanMetadata 5.349 0.587 5.252 * checking for unstated dependencies in ‘tests’ ... OK * checking tests ... Running ‘testthat.R’ OK * checking for unstated dependencies in vignettes ... OK * checking package vignettes in ‘inst/doc’ ... OK * checking running R code from vignettes ... SKIPPED * checking re-building of vignette outputs ... SKIPPED * checking PDF version of manual ... OK * DONE Status: 3 NOTEs See ‘/Users/biocbuild/bbs-3.18-bioc/meat/SpatialOmicsOverlay.Rcheck/00check.log’ for details.