Package: SpatialOmicsOverlay Version: 1.2.1 Command: rm -rf SpatialOmicsOverlay.buildbin-libdir && mkdir SpatialOmicsOverlay.buildbin-libdir && /Users/biocbuild/BBS/utils/build-universal.sh SpatialOmicsOverlay_1.2.1.tar.gz /Library/Frameworks/R.framework/Resources/bin/R SpatialOmicsOverlay.buildbin-libdir StartedAt: 2024-03-04 01:06:25 -0500 (Mon, 04 Mar 2024) EndedAt: 2024-03-04 01:07:13 -0500 (Mon, 04 Mar 2024) EllapsedTime: 48.3 seconds RetCode: 0 Status: OK PackageFile: SpatialOmicsOverlay_1.2.1.tgz PackageFileSize: 4.521 MiB