Package: SpatialFeatureExperiment Version: 1.4.0 Command: /home/biocbuild/bbs-3.18-bioc/R/bin/R CMD build --keep-empty-dirs --no-resave-data SpatialFeatureExperiment StartedAt: 2024-04-15 19:22:17 -0400 (Mon, 15 Apr 2024) EndedAt: 2024-04-15 19:23:56 -0400 (Mon, 15 Apr 2024) EllapsedTime: 99.2 seconds RetCode: 0 Status: OK PackageFile: SpatialFeatureExperiment_1.4.0.tar.gz PackageFileSize: 1.854 MiB