Package: SpatialDecon Version: 1.12.3 Command: /home/biocbuild/bbs-3.18-bioc/R/bin/R CMD build --keep-empty-dirs --no-resave-data SpatialDecon StartedAt: 2024-04-15 19:21:40 -0400 (Mon, 15 Apr 2024) EndedAt: 2024-04-15 19:23:59 -0400 (Mon, 15 Apr 2024) EllapsedTime: 139.4 seconds RetCode: 0 Status: OK PackageFile: SpatialDecon_1.12.3.tar.gz PackageFileSize: 4.85 MiB