Package: SpatialDecon Version: 1.12.3 Command: rm -rf SpatialDecon.buildbin-libdir && mkdir SpatialDecon.buildbin-libdir && /Users/biocbuild/BBS/utils/build-universal.sh SpatialDecon_1.12.3.tar.gz /Library/Frameworks/R.framework/Resources/bin/R SpatialDecon.buildbin-libdir StartedAt: 2024-03-04 01:06:20 -0500 (Mon, 04 Mar 2024) EndedAt: 2024-03-04 01:06:58 -0500 (Mon, 04 Mar 2024) EllapsedTime: 37.9 seconds RetCode: 0 Status: OK PackageFile: SpatialDecon_1.12.3.tgz PackageFileSize: 4.031 MiB