Package: SparseSignatures Version: 2.12.0 Command: chmod a+r SparseSignatures -R && F:\biocbuild\bbs-3.18-bioc\R\bin\R.exe CMD build --keep-empty-dirs --no-resave-data SparseSignatures StartedAt: 2024-04-15 21:20:21 -0400 (Mon, 15 Apr 2024) EndedAt: 2024-04-15 21:23:45 -0400 (Mon, 15 Apr 2024) EllapsedTime: 203.3 seconds RetCode: 0 Status: OK PackageFile: SparseSignatures_2.12.0.tar.gz PackageFileSize: 1.375 MiB