Package: SparseSignatures Version: 2.12.0 Command: rm -rf SparseSignatures.buildbin-libdir && mkdir SparseSignatures.buildbin-libdir && /Users/biocbuild/BBS/utils/build-universal.sh SparseSignatures_2.12.0.tar.gz /Library/Frameworks/R.framework/Resources/bin/R SparseSignatures.buildbin-libdir StartedAt: 2024-04-16 12:47:23 -0400 (Tue, 16 Apr 2024) EndedAt: 2024-04-16 12:48:43 -0400 (Tue, 16 Apr 2024) EllapsedTime: 80.0 seconds RetCode: 0 Status: OK PackageFile: SparseSignatures_2.12.0.tgz PackageFileSize: 1.587 MiB