Package: SparseSignatures Version: 2.12.0 Command: /Library/Frameworks/R.framework/Resources/bin/R CMD INSTALL SparseSignatures StartedAt: 2024-03-03 15:20:18 -0500 (Sun, 03 Mar 2024) EndedAt: 2024-03-03 15:21:14 -0500 (Sun, 03 Mar 2024) EllapsedTime: 55.8 seconds RetCode: 0 Status: OK