Package: SparseSignatures Version: 2.12.0 Command: rm -rf SparseSignatures.buildbin-libdir && mkdir SparseSignatures.buildbin-libdir && /Users/biocbuild/BBS/utils/build-universal.sh SparseSignatures_2.12.0.tar.gz /Library/Frameworks/R.framework/Resources/bin/R SparseSignatures.buildbin-libdir StartedAt: 2024-03-04 01:06:16 -0500 (Mon, 04 Mar 2024) EndedAt: 2024-03-04 01:07:14 -0500 (Mon, 04 Mar 2024) EllapsedTime: 58.3 seconds RetCode: 0 Status: OK PackageFile: SparseSignatures_2.12.0.tgz PackageFileSize: 1.575 MiB