Package: SparseSignatures Version: 2.12.0 Command: /home/biocbuild/R/R-4.3.1/bin/R CMD INSTALL SparseSignatures StartedAt: 2023-11-01 20:27:00 -0000 (Wed, 01 Nov 2023) EndedAt: 2023-11-01 20:27:54 -0000 (Wed, 01 Nov 2023) EllapsedTime: 54.6 seconds RetCode: 0 Status: OK