Package: SparseSignatures Version: 2.12.0 Command: /home/biocbuild/R/R-4.3.1/bin/R CMD check --install=check:SparseSignatures.install-out.txt --library=/home/biocbuild/R/R-4.3.1/site-library --no-vignettes --timings SparseSignatures_2.12.0.tar.gz StartedAt: 2023-11-02 14:33:01 -0000 (Thu, 02 Nov 2023) EndedAt: 2023-11-02 14:44:50 -0000 (Thu, 02 Nov 2023) EllapsedTime: 709.3 seconds RetCode: 0 Status: OK CheckDir: SparseSignatures.Rcheck Warnings: 0