Package: SparseSignatures Version: 2.12.0 Command: /home/biocbuild/R/R-4.3.1/bin/R CMD build --keep-empty-dirs --no-resave-data SparseSignatures StartedAt: 2023-11-02 06:36:44 -0000 (Thu, 02 Nov 2023) EndedAt: 2023-11-02 06:43:18 -0000 (Thu, 02 Nov 2023) EllapsedTime: 393.9 seconds RetCode: 0 Status: OK PackageFile: SparseSignatures_2.12.0.tar.gz PackageFileSize: 1.577 MiB