Package: SparseArray Version: 1.2.4 Command: /home/biocbuild/bbs-3.18-bioc/R/bin/R CMD check --install=check:SparseArray.install-out.txt --library=/home/biocbuild/bbs-3.18-bioc/R/site-library --timings SparseArray_1.2.4.tar.gz StartedAt: 2024-04-16 04:10:45 -0400 (Tue, 16 Apr 2024) EndedAt: 2024-04-16 04:13:21 -0400 (Tue, 16 Apr 2024) EllapsedTime: 156.3 seconds RetCode: 0 Status: OK CheckDir: SparseArray.Rcheck Warnings: 0