Package: SparseArray Version: 1.2.4 Command: /home/biocbuild/bbs-3.18-bioc/R/bin/R CMD build --keep-empty-dirs --no-resave-data SparseArray StartedAt: 2024-04-15 19:20:59 -0400 (Mon, 15 Apr 2024) EndedAt: 2024-04-15 19:21:31 -0400 (Mon, 15 Apr 2024) EllapsedTime: 32.6 seconds RetCode: 0 Status: OK PackageFile: SparseArray_1.2.4.tar.gz PackageFileSize: 359.2 KiB