Package: SparseArray Version: 1.2.4 Command: /Library/Frameworks/R.framework/Resources/bin/R CMD INSTALL SparseArray StartedAt: 2024-03-03 15:07:51 -0500 (Sun, 03 Mar 2024) EndedAt: 2024-03-03 15:08:28 -0500 (Sun, 03 Mar 2024) EllapsedTime: 36.3 seconds RetCode: 0 Status: OK