Package: SparseArray Version: 1.2.4 Command: /Library/Frameworks/R.framework/Resources/bin/R CMD check --install=check:SparseArray.install-out.txt --library=/Library/Frameworks/R.framework/Resources/library --no-vignettes --timings SparseArray_1.2.4.tar.gz StartedAt: 2024-03-03 23:37:20 -0500 (Sun, 03 Mar 2024) EndedAt: 2024-03-03 23:40:22 -0500 (Sun, 03 Mar 2024) EllapsedTime: 181.7 seconds RetCode: 0 Status: OK CheckDir: SparseArray.Rcheck Warnings: 0