Package: SparseArray Version: 1.2.0 Command: /home/biocbuild/R/R-4.3.1/bin/R CMD build --keep-empty-dirs --no-resave-data SparseArray StartedAt: 2023-11-02 06:35:12 -0000 (Thu, 02 Nov 2023) EndedAt: 2023-11-02 06:35:59 -0000 (Thu, 02 Nov 2023) EllapsedTime: 47.1 seconds RetCode: 0 Status: OK PackageFile: SparseArray_1.2.0.tar.gz PackageFileSize: 382.1 KiB