Package: SpacePAC Version: 1.40.0 Command: /home/biocbuild/bbs-3.18-bioc/R/bin/R CMD build --keep-empty-dirs --no-resave-data SpacePAC StartedAt: 2024-04-15 19:20:37 -0400 (Mon, 15 Apr 2024) EndedAt: 2024-04-15 19:21:29 -0400 (Mon, 15 Apr 2024) EllapsedTime: 52.9 seconds RetCode: 0 Status: OK PackageFile: SpacePAC_1.40.0.tar.gz PackageFileSize: 1.695 MiB