Package: SpacePAC Version: 1.40.0 Command: rm -rf SpacePAC.buildbin-libdir && mkdir SpacePAC.buildbin-libdir && /Users/biocbuild/BBS/utils/build-universal.sh SpacePAC_1.40.0.tar.gz /Library/Frameworks/R.framework/Resources/bin/R SpacePAC.buildbin-libdir StartedAt: 2024-04-16 12:46:57 -0400 (Tue, 16 Apr 2024) EndedAt: 2024-04-16 12:47:29 -0400 (Tue, 16 Apr 2024) EllapsedTime: 32.3 seconds RetCode: 0 Status: OK PackageFile: SpacePAC_1.40.0.tgz PackageFileSize: 1.183 MiB