Package: SpacePAC Version: 1.40.0 Command: /home/biocbuild/R/R-4.3.1/bin/R CMD build --keep-empty-dirs --no-resave-data SpacePAC StartedAt: 2023-11-02 06:34:24 -0000 (Thu, 02 Nov 2023) EndedAt: 2023-11-02 06:35:49 -0000 (Thu, 02 Nov 2023) EllapsedTime: 85.1 seconds RetCode: 0 Status: OK PackageFile: SpacePAC_1.40.0.tar.gz PackageFileSize: 1.873 MiB