Package: SingleCellSignalR Version: 1.14.0 Command: F:\biocbuild\bbs-3.18-bioc\R\bin\R.exe CMD check --no-multiarch --install=check:SingleCellSignalR.install-out.txt --library=F:\biocbuild\bbs-3.18-bioc\R\library --no-vignettes --timings SingleCellSignalR_1.14.0.tar.gz StartedAt: 2024-04-16 05:12:59 -0400 (Tue, 16 Apr 2024) EndedAt: 2024-04-16 05:17:04 -0400 (Tue, 16 Apr 2024) EllapsedTime: 245.3 seconds RetCode: 0 Status: WARNINGS CheckDir: SingleCellSignalR.Rcheck Warnings: 2