Package: SingleCellSignalR Version: 1.14.0 Command: chmod a+r SingleCellSignalR -R && F:\biocbuild\bbs-3.18-bioc\R\bin\R.exe CMD build --keep-empty-dirs --no-resave-data SingleCellSignalR StartedAt: 2024-04-15 21:14:10 -0400 (Mon, 15 Apr 2024) EndedAt: 2024-04-15 21:16:14 -0400 (Mon, 15 Apr 2024) EllapsedTime: 124.3 seconds RetCode: 0 Status: OK PackageFile: SingleCellSignalR_1.14.0.tar.gz PackageFileSize: 4.016 MiB