Package: SingleCellSignalR Version: 1.14.0 Command: rm -rf SingleCellSignalR.buildbin-libdir && mkdir SingleCellSignalR.buildbin-libdir && F:\biocbuild\bbs-3.18-bioc\R\bin\R.exe CMD INSTALL --build --library=SingleCellSignalR.buildbin-libdir SingleCellSignalR_1.14.0.tar.gz StartedAt: 2024-04-16 07:42:24 -0400 (Tue, 16 Apr 2024) EndedAt: 2024-04-16 07:43:20 -0400 (Tue, 16 Apr 2024) EllapsedTime: 56.4 seconds RetCode: 0 Status: OK PackageFile: SingleCellSignalR_1.14.0.zip PackageFileSize: 5.863 MiB