Package: SingleCellExperiment Version: 1.24.0 Command: rm -rf SingleCellExperiment.buildbin-libdir && mkdir SingleCellExperiment.buildbin-libdir && F:\biocbuild\bbs-3.18-bioc\R\bin\R.exe CMD INSTALL --build --library=SingleCellExperiment.buildbin-libdir SingleCellExperiment_1.24.0.tar.gz StartedAt: 2024-04-16 07:42:22 -0400 (Tue, 16 Apr 2024) EndedAt: 2024-04-16 07:43:07 -0400 (Tue, 16 Apr 2024) EllapsedTime: 44.5 seconds RetCode: 0 Status: OK PackageFile: SingleCellExperiment_1.24.0.zip PackageFileSize: 1.886 MiB