Package: SingleCellExperiment Version: 1.24.0 Command: /home/biocbuild/bbs-3.18-bioc/R/bin/R CMD INSTALL SingleCellExperiment StartedAt: 2024-04-15 15:13:29 -0400 (Mon, 15 Apr 2024) EndedAt: 2024-04-15 15:13:54 -0400 (Mon, 15 Apr 2024) EllapsedTime: 25.2 seconds RetCode: 0 Status: OK