Package: SingleCellExperiment Version: 1.24.0 Command: /home/biocbuild/R/R-4.3.1/bin/R CMD INSTALL SingleCellExperiment StartedAt: 2023-11-01 20:14:13 -0000 (Wed, 01 Nov 2023) EndedAt: 2023-11-01 20:14:48 -0000 (Wed, 01 Nov 2023) EllapsedTime: 35.7 seconds RetCode: 0 Status: OK