Package: SimFFPE Version: 1.14.0 Command: rm -rf SimFFPE.buildbin-libdir && mkdir SimFFPE.buildbin-libdir && F:\biocbuild\bbs-3.18-bioc\R\bin\R.exe CMD INSTALL --build --library=SimFFPE.buildbin-libdir SimFFPE_1.14.0.tar.gz StartedAt: 2024-04-16 07:42:09 -0400 (Tue, 16 Apr 2024) EndedAt: 2024-04-16 07:42:35 -0400 (Tue, 16 Apr 2024) EllapsedTime: 26.1 seconds RetCode: 0 Status: OK PackageFile: SimFFPE_1.14.0.zip PackageFileSize: 801.1 KiB