Package: SimBu Version: 1.4.3 Command: rm -rf SimBu.buildbin-libdir && mkdir SimBu.buildbin-libdir && F:\biocbuild\bbs-3.18-bioc\R\bin\R.exe CMD INSTALL --build --library=SimBu.buildbin-libdir SimBu_1.4.3.tar.gz StartedAt: 2024-04-16 07:42:05 -0400 (Tue, 16 Apr 2024) EndedAt: 2024-04-16 07:42:22 -0400 (Tue, 16 Apr 2024) EllapsedTime: 16.9 seconds RetCode: 0 Status: OK PackageFile: SimBu_1.4.3.zip PackageFileSize: 227.7 KiB