Package: SimBindProfiles Version: 1.40.0 Command: chmod a+r SimBindProfiles -R && F:\biocbuild\bbs-3.18-bioc\R\bin\R.exe CMD build --keep-empty-dirs --no-resave-data SimBindProfiles StartedAt: 2024-04-15 21:11:51 -0400 (Mon, 15 Apr 2024) EndedAt: 2024-04-15 21:12:44 -0400 (Mon, 15 Apr 2024) EllapsedTime: 53.3 seconds RetCode: 0 Status: OK PackageFile: SimBindProfiles_1.40.0.tar.gz PackageFileSize: 1.692 MiB