Package: SimBindProfiles Version: 1.40.0 Command: /Library/Frameworks/R.framework/Resources/bin/R CMD check --install=check:SimBindProfiles.install-out.txt --library=/Library/Frameworks/R.framework/Resources/library --no-vignettes --timings SimBindProfiles_1.40.0.tar.gz StartedAt: 2024-04-16 08:59:29 -0400 (Tue, 16 Apr 2024) EndedAt: 2024-04-16 09:04:57 -0400 (Tue, 16 Apr 2024) EllapsedTime: 327.5 seconds RetCode: 0 Status: WARNINGS CheckDir: SimBindProfiles.Rcheck Warnings: 1