Package: SimBindProfiles Version: 1.40.0 Command: rm -rf SimBindProfiles.buildbin-libdir && mkdir SimBindProfiles.buildbin-libdir && /Users/biocbuild/BBS/utils/build-universal.sh SimBindProfiles_1.40.0.tar.gz /Library/Frameworks/R.framework/Resources/bin/R SimBindProfiles.buildbin-libdir StartedAt: 2024-03-04 01:05:11 -0500 (Mon, 04 Mar 2024) EndedAt: 2024-03-04 01:05:45 -0500 (Mon, 04 Mar 2024) EllapsedTime: 34.3 seconds RetCode: 0 Status: OK PackageFile: SimBindProfiles_1.40.0.tgz PackageFileSize: 1.9 MiB