Package: SimBindProfiles Version: 1.40.0 Command: /home/biocbuild/R/R-4.3.1/bin/R CMD check --install=check:SimBindProfiles.install-out.txt --library=/home/biocbuild/R/R-4.3.1/site-library --no-vignettes --timings SimBindProfiles_1.40.0.tar.gz StartedAt: 2023-11-02 14:24:36 -0000 (Thu, 02 Nov 2023) EndedAt: 2023-11-02 14:27:57 -0000 (Thu, 02 Nov 2023) EllapsedTime: 200.4 seconds RetCode: 0 Status: WARNINGS CheckDir: SimBindProfiles.Rcheck Warnings: 1