Package: SimBindProfiles Version: 1.40.0 Maintainer: Bettina Fischer MaintainerEmail: bef22 at cam.ac.uk git_url: https://git.bioconductor.org/packages/SimBindProfiles git_branch: RELEASE_3_18 git_last_commit: cea1be0 git_last_commit_date: 2023-10-24 09:56:00 -0400 (Tue, 24 Oct 2023)