Package: SigsPack Version: 1.16.0 Command: chmod a+r SigsPack -R && F:\biocbuild\bbs-3.18-bioc\R\bin\R.exe CMD build --keep-empty-dirs --no-resave-data SigsPack StartedAt: 2024-04-15 21:11:23 -0400 (Mon, 15 Apr 2024) EndedAt: 2024-04-15 21:17:12 -0400 (Mon, 15 Apr 2024) EllapsedTime: 348.9 seconds RetCode: 0 Status: OK PackageFile: SigsPack_1.16.0.tar.gz PackageFileSize: 461 KiB