Package: SigsPack Version: 1.16.0 Command: /Library/Frameworks/R.framework/Resources/bin/R CMD build --keep-empty-dirs --no-resave-data SigsPack StartedAt: 2024-04-15 22:00:40 -0400 (Mon, 15 Apr 2024) EndedAt: 2024-04-15 22:04:39 -0400 (Mon, 15 Apr 2024) EllapsedTime: 239.4 seconds RetCode: 0 Status: OK PackageFile: SigsPack_1.16.0.tar.gz PackageFileSize: 527.1 KiB