Package: SigsPack Version: 1.16.0 Command: /Library/Frameworks/R.framework/Resources/bin/R CMD check --install=check:SigsPack.install-out.txt --library=/Library/Frameworks/R.framework/Resources/library --no-vignettes --timings SigsPack_1.16.0.tar.gz StartedAt: 2024-03-03 23:30:19 -0500 (Sun, 03 Mar 2024) EndedAt: 2024-03-03 23:33:03 -0500 (Sun, 03 Mar 2024) EllapsedTime: 164.3 seconds RetCode: 0 Status: OK CheckDir: SigsPack.Rcheck Warnings: 0