Package: SigsPack Version: 1.16.0 Command: /Library/Frameworks/R.framework/Resources/bin/R CMD build --keep-empty-dirs --no-resave-data SigsPack StartedAt: 2024-03-03 18:20:55 -0500 (Sun, 03 Mar 2024) EndedAt: 2024-03-03 18:22:56 -0500 (Sun, 03 Mar 2024) EllapsedTime: 121.3 seconds RetCode: 0 Status: OK PackageFile: SigsPack_1.16.0.tar.gz PackageFileSize: 503.7 KiB