Package: SigsPack Version: 1.16.0 Command: /home/biocbuild/R/R-4.3.1/bin/R CMD INSTALL SigsPack StartedAt: 2023-11-01 20:28:54 -0000 (Wed, 01 Nov 2023) EndedAt: 2023-11-01 20:28:56 -0000 (Wed, 01 Nov 2023) EllapsedTime: 2.1 seconds RetCode: 0 Status: OK