Package: SigsPack Version: 1.16.0 Command: /home/biocbuild/R/R-4.3.1/bin/R CMD build --keep-empty-dirs --no-resave-data SigsPack StartedAt: 2023-11-02 06:19:57 -0000 (Thu, 02 Nov 2023) EndedAt: 2023-11-02 06:21:52 -0000 (Thu, 02 Nov 2023) EllapsedTime: 115.1 seconds RetCode: 0 Status: OK PackageFile: SigsPack_1.16.0.tar.gz PackageFileSize: 506.1 KiB