Package: SigFuge Version: 1.40.0 Command: /home/biocbuild/R/R-4.3.1/bin/R CMD check --install=check:SigFuge.install-out.txt --library=/home/biocbuild/R/R-4.3.1/site-library --no-vignettes --timings SigFuge_1.40.0.tar.gz StartedAt: 2023-11-02 14:22:26 -0000 (Thu, 02 Nov 2023) EndedAt: 2023-11-02 14:25:25 -0000 (Thu, 02 Nov 2023) EllapsedTime: 179.3 seconds RetCode: 0 Status: OK CheckDir: SigFuge.Rcheck Warnings: 0