Package: SiPSiC Version: 1.2.2 Command: F:\biocbuild\bbs-3.18-bioc\R\bin\R.exe CMD INSTALL SiPSiC StartedAt: 2024-04-15 15:49:56 -0400 (Mon, 15 Apr 2024) EndedAt: 2024-04-15 15:50:25 -0400 (Mon, 15 Apr 2024) EllapsedTime: 29.2 seconds RetCode: 0 Status: OK