Package: SiPSiC Version: 1.2.0 Command: /home/biocbuild/R/R-4.3.1/bin/R CMD check --install=check:SiPSiC.install-out.txt --library=/home/biocbuild/R/R-4.3.1/site-library --no-vignettes --timings SiPSiC_1.2.0.tar.gz StartedAt: 2023-11-02 14:26:47 -0000 (Thu, 02 Nov 2023) EndedAt: 2023-11-02 14:30:05 -0000 (Thu, 02 Nov 2023) EllapsedTime: 197.4 seconds RetCode: 0 Status: OK CheckDir: SiPSiC.Rcheck Warnings: 0