Package: ShortRead Version: 1.60.0 Command: F:\biocbuild\bbs-3.18-bioc\R\bin\R.exe CMD INSTALL ShortRead StartedAt: 2024-04-15 16:08:28 -0400 (Mon, 15 Apr 2024) EndedAt: 2024-04-15 16:10:05 -0400 (Mon, 15 Apr 2024) EllapsedTime: 96.6 seconds RetCode: 0 Status: OK