Package: ShortRead Version: 1.60.0 Command: chmod a+r ShortRead -R && F:\biocbuild\bbs-3.18-bioc\R\bin\R.exe CMD build --keep-empty-dirs --no-resave-data ShortRead StartedAt: 2024-04-15 21:09:51 -0400 (Mon, 15 Apr 2024) EndedAt: 2024-04-15 21:12:08 -0400 (Mon, 15 Apr 2024) EllapsedTime: 137.0 seconds RetCode: 0 Status: OK PackageFile: ShortRead_1.60.0.tar.gz PackageFileSize: 4.981 MiB