Package: SharedObject Version: 1.16.0 Command: /Library/Frameworks/R.framework/Resources/bin/R CMD check --install=check:SharedObject.install-out.txt --library=/Library/Frameworks/R.framework/Resources/library --no-vignettes --timings SharedObject_1.16.0.tar.gz StartedAt: 2024-03-03 23:27:53 -0500 (Sun, 03 Mar 2024) EndedAt: 2024-03-03 23:29:27 -0500 (Sun, 03 Mar 2024) EllapsedTime: 94.1 seconds RetCode: 0 Status: OK CheckDir: SharedObject.Rcheck Warnings: 0